BEGIN:VCALENDAR
VERSION:2.0
PRODID:-//wp-events-plugin.com//7.2.3.1//EN
TZID:Europe/Berlin
X-WR-TIMEZONE:Europe/Berlin
BEGIN:VEVENT
UID:1235@schuetzenverein-brettorf.de
DTSTART;TZID=Europe/Berlin:20260220T193000
DTEND;TZID=Europe/Berlin:20260220T220000
DTSTAMP:20251216T132749Z
URL:https://schuetzenverein-brettorf.de/events/filme-und-spielenachmittag-
 und-uebungsschiessen-der-schuetzenjugend/
SUMMARY:Mitgliederversammlung Schützenverein Brettorf von 1924 e.V.
DESCRIPTION:Uhlhorn - Krebsdiele - für alle Mitglieder (uniform)
END:VEVENT
BEGIN:VTIMEZONE
TZID:Europe/Berlin
X-LIC-LOCATION:Europe/Berlin
BEGIN:STANDARD
DTSTART:20251026T020000
TZOFFSETFROM:+0200
TZOFFSETTO:+0100
TZNAME:CET
END:STANDARD
END:VTIMEZONE
END:VCALENDAR